BEGIN:VCALENDAR
VERSION:2.0
PRODID:-//Tukios.com/
BEGIN:VEVENT
UID:44f6b1fd-0329-498a-9753-6545c5f384c7@www.willisfs.com
DTSTAMP:20260421T010452Z
DTSTART:20260424T180000Z
DTEND:20260424T190000Z
SUMMARY:Graveside Service
DESCRIPTION:
URL:https://www.willisfs.com/obituaries/winnie-hulen
LOCATION:Fairview Cemetery Fairview Road  Cave City AR 72521
GEO:35.9812779;-91.4807584
END:VEVENT
END:VCALENDAR