BEGIN:VCALENDAR
VERSION:2.0
PRODID:-//Tukios.com/
BEGIN:VEVENT
UID:da2a4736-f441-427e-ae7c-86a3c3f35795@www.willisfs.com
DTSTAMP:20260424T194330Z
DTSTART:20260516T180000Z
DTEND:20260516T190000Z
SUMMARY:Celebration of Life
DESCRIPTION:
URL:https://www.willisfs.com/obituaries/betty-hays
LOCATION:Betty’s home Contact the family  Batesville AR 72501
GEO:35.7696862;-91.6409431
END:VEVENT
END:VCALENDAR