BEGIN:VCALENDAR
VERSION:2.0
PRODID:-//Tukios.com/
BEGIN:VEVENT
UID:48b4c624-769f-4d4b-9746-5e09f8bdee14@www.willisfs.com
DTSTAMP:20260423T000645Z
DTSTART:20260428
SUMMARY:Interment for Betty Jean Collins
DESCRIPTION:
URL:https://www.willisfs.com/obituaries/betty-collins
LOCATION:Pleasant Valley Cemetery    Cushman AR 72501
GEO:35.8745919;-91.753195
END:VEVENT
END:VCALENDAR