BEGIN:VCALENDAR
VERSION:2.0
PRODID:-//Tukios.com/
BEGIN:VEVENT
UID:231304d8-7c99-443e-8afa-c8095baab163@www.willisfs.com
DTSTAMP:20260423T000833Z
DTSTART:20260428T150000Z
DTEND:20260428T160000Z
SUMMARY:Funeral for Betty Jean Collins
DESCRIPTION:
URL:https://www.willisfs.com/obituaries/betty-collins
LOCATION:Willis Funeral Service 3513 Harrison Street  Batesville AR 72501
GEO:35.7711267;-91.6043252
END:VEVENT
END:VCALENDAR