BEGIN:VCALENDAR
VERSION:2.0
PRODID:-//Tukios.com/
BEGIN:VEVENT
UID:19ce7281-9a43-4287-8201-6cc1868c71b8@www.willisfs.com
DTSTAMP:20260423T001158Z
DTSTART:20260427T220000Z
DTEND:20260428T000000Z
SUMMARY:Visitation for Betty Jean Collins
DESCRIPTION:
URL:https://www.willisfs.com/obituaries/betty-collins
LOCATION:Willis Funeral Service 3513 Harrison Street  Batesville AR 72501
GEO:35.7711267;-91.6043252
END:VEVENT
END:VCALENDAR